BEGIN:VCALENDAR
VERSION:2.0
PRODID:-// - ECPv5.16.3.1//NONSGML v1.0//EN
CALSCALE:GREGORIAN
METHOD:PUBLISH
X-ORIGINAL-URL:https://monteverdechicago.com
X-WR-CALDESC:Events for 
BEGIN:VTIMEZONE
TZID:America/Chicago
BEGIN:DAYLIGHT
TZOFFSETFROM:-0600
TZOFFSETTO:-0500
TZNAME:CDT
DTSTART:20180311T080000
END:DAYLIGHT
BEGIN:STANDARD
TZOFFSETFROM:-0500
TZOFFSETTO:-0600
TZNAME:CST
DTSTART:20181104T070000
END:STANDARD
END:VTIMEZONE
BEGIN:VEVENT
DTSTART;TZID=America/Chicago:20180924T130000
DTEND;TZID=America/Chicago:20180924T160000
DTSTAMP:20260421T142820
CREATED:20180911T203816Z
LAST-MODIFIED:20180911T203816Z
UID:615-1537794000-1537804800@monteverdechicago.com
SUMMARY:Between Bites
DESCRIPTION:Between Bites invites figure heads from the hospitality industry to share personal stories about food\, drink\, restaurants and more. To celebrate five years of stories\, Chef Sarah will join nine other storytellers on Monday\, September 24th to read five-minute story of their choice. \nINFO & TICKETS
URL:https://monteverdechicago.com/mv-event/between-bites/
LOCATION:Savage Smyth\, 920 North Franklin Street\, Chicago\, Illinois\, 60610
END:VEVENT
END:VCALENDAR