BEGIN:VCALENDAR
VERSION:2.0
PRODID:-// - ECPv5.16.3.1//NONSGML v1.0//EN
CALSCALE:GREGORIAN
METHOD:PUBLISH
X-ORIGINAL-URL:https://monteverdechicago.com
X-WR-CALDESC:Events for 
BEGIN:VTIMEZONE
TZID:America/Chicago
BEGIN:DAYLIGHT
TZOFFSETFROM:-0600
TZOFFSETTO:-0500
TZNAME:CDT
DTSTART:20170312T080000
END:DAYLIGHT
BEGIN:STANDARD
TZOFFSETFROM:-0500
TZOFFSETTO:-0600
TZNAME:CST
DTSTART:20171105T070000
END:STANDARD
END:VTIMEZONE
BEGIN:VEVENT
DTSTART;VALUE=DATE:20170608
DTEND;VALUE=DATE:20170610
DTSTAMP:20260421T154027
CREATED:20170414T025420Z
LAST-MODIFIED:20170414T025442Z
UID:435-1496948400-1497034799@monteverdechicago.com
SUMMARY:Chefs' Playground
DESCRIPTION:Join Chef Sarah and over 25 of Chicago’s best chefs and bartenders as they create modern versions of childhood favorite dishes at Chefs’ Playground. The charity event benefits the Academy for Global Citizenship (AGC)\, a unique Chicago public school located in the underserved Southwest side of Chicago. \nMORE INFO
URL:https://monteverdechicago.com/mv-event/chefs-playground/
LOCATION:Griffin Court at Art Institute\, 111 S Michigan Ave\, Chicago\, Illinois
END:VEVENT
END:VCALENDAR