BEGIN:VCALENDAR
VERSION:2.0
PRODID:-// - ECPv5.16.3.1//NONSGML v1.0//EN
CALSCALE:GREGORIAN
METHOD:PUBLISH
X-ORIGINAL-URL:https://monteverdechicago.com
X-WR-CALDESC:Events for 
BEGIN:VTIMEZONE
TZID:America/Chicago
BEGIN:DAYLIGHT
TZOFFSETFROM:-0600
TZOFFSETTO:-0500
TZNAME:CDT
DTSTART:20190310T080000
END:DAYLIGHT
BEGIN:STANDARD
TZOFFSETFROM:-0500
TZOFFSETTO:-0600
TZNAME:CST
DTSTART:20191103T070000
END:STANDARD
END:VTIMEZONE
BEGIN:VEVENT
DTSTART;TZID=America/Chicago:20190928T150000
DTEND;TZID=America/Chicago:20190928T180000
DTSTAMP:20260421T113641
CREATED:20190627T025127Z
LAST-MODIFIED:20190627T030558Z
UID:700-1569682800-1569693600@monteverdechicago.com
SUMMARY:Chicago Gourmet
DESCRIPTION:At this year’s Chicago Gourmet Chef Sarah will be headlining an Encore Event called The Big Chill(i): Gourmet Chili Cook-Off. Chef has curated a list of Chicago’s best culinary talent alongside Chicago firefighters to each create their own version of chili battling for bragging rights over the winning bowl. The evening will benefit the 100 Club\, which provides for the families of first responders who have lost their lives in the line of duty. \nMORE INFO & TICKETS
URL:https://monteverdechicago.com/mv-event/chicago-gourmet-2/
LOCATION:Harris Theater Rooftop\, 205 E Randolph St\, Chicago\, IL\, 60601\, United States
END:VEVENT
END:VCALENDAR