BEGIN:VCALENDAR
VERSION:2.0
PRODID:-// - ECPv5.16.3.1//NONSGML v1.0//EN
CALSCALE:GREGORIAN
METHOD:PUBLISH
X-ORIGINAL-URL:https://monteverdechicago.com
X-WR-CALDESC:Events for 
BEGIN:VTIMEZONE
TZID:America/Chicago
BEGIN:DAYLIGHT
TZOFFSETFROM:-0600
TZOFFSETTO:-0500
TZNAME:CDT
DTSTART:20170312T080000
END:DAYLIGHT
BEGIN:STANDARD
TZOFFSETFROM:-0500
TZOFFSETTO:-0600
TZNAME:CST
DTSTART:20171105T070000
END:STANDARD
END:VTIMEZONE
BEGIN:VEVENT
DTSTART;TZID=America/Chicago:20170924T093000
DTEND;TZID=America/Chicago:20170924T100000
DTSTAMP:20260421T142235
CREATED:20170814T220824Z
LAST-MODIFIED:20170814T220824Z
UID:475-1506245400-1506247200@monteverdechicago.com
SUMMARY:Chicago Gourmet Cooking Demo
DESCRIPTION:Chef Sarah is teaming up with Chef Stephanie Izard for a “Flour Power” cooking demo showcasing the various uses of flour in global cuisine. The duo will be on stage from 2:30-3 p.m. (*time subject to change). \nMORE INFO
URL:https://monteverdechicago.com/mv-event/chicago-gourmet-cooking-demo/
LOCATION:Millenium Park\, 201 E Randolph St\, Chicago\, IL\, 60602\, United States
END:VEVENT
END:VCALENDAR