BEGIN:VCALENDAR
VERSION:2.0
PRODID:-// - ECPv5.16.3.1//NONSGML v1.0//EN
CALSCALE:GREGORIAN
METHOD:PUBLISH
X-ORIGINAL-URL:https://monteverdechicago.com
X-WR-CALDESC:Events for 
BEGIN:VTIMEZONE
TZID:America/Chicago
BEGIN:DAYLIGHT
TZOFFSETFROM:-0600
TZOFFSETTO:-0500
TZNAME:CDT
DTSTART:20170312T080000
END:DAYLIGHT
BEGIN:STANDARD
TZOFFSETFROM:-0500
TZOFFSETTO:-0600
TZNAME:CST
DTSTART:20171105T070000
END:STANDARD
END:VTIMEZONE
BEGIN:VEVENT
DTSTART;TZID=America/Chicago:20170921T130000
DTEND;TZID=America/Chicago:20170921T160000
DTSTAMP:20260421T154322
CREATED:20170814T220448Z
LAST-MODIFIED:20170814T220534Z
UID:472-1505998800-1506009600@monteverdechicago.com
SUMMARY:Chicago Gourmet Italian Feast on the Riverwalk
DESCRIPTION:To celebrate the 10th anniversary of Chicago Gourmet\, Chef Sarah will join Chefs Tony Mantuano\, Fabio Viviani\, and Tony Priolo for a memorable evening inspired by dining alfresco along the canals of Venice. An Italian dinner will be offered on Chicago’s renewed riverwalk.  \nMORE INFO
URL:https://monteverdechicago.com/mv-event/chicago-gourmet-italian-feast-riverwalk/
LOCATION:Chicago Riverwalk\, Between Wells St & Lasalle St\, Chicago\, IL\, 60601
END:VEVENT
END:VCALENDAR