BEGIN:VCALENDAR
VERSION:2.0
PRODID:-// - ECPv5.16.3.1//NONSGML v1.0//EN
CALSCALE:GREGORIAN
METHOD:PUBLISH
X-ORIGINAL-URL:https://monteverdechicago.com
X-WR-CALDESC:Events for 
BEGIN:VTIMEZONE
TZID:America/Chicago
BEGIN:DAYLIGHT
TZOFFSETFROM:-0600
TZOFFSETTO:-0500
TZNAME:CDT
DTSTART:20180311T080000
END:DAYLIGHT
BEGIN:STANDARD
TZOFFSETFROM:-0500
TZOFFSETTO:-0600
TZNAME:CST
DTSTART:20181104T070000
END:STANDARD
END:VTIMEZONE
BEGIN:VEVENT
DTSTART;TZID=America/Chicago:20181102T130000
DTEND;TZID=America/Chicago:20181102T170000
DTSTAMP:20260421T130305
CREATED:20180911T205345Z
LAST-MODIFIED:20180911T205720Z
UID:625-1541163600-1541178000@monteverdechicago.com
SUMMARY:Feed Your Mind Gala
DESCRIPTION:Chef Sarah will participate once again in the Feed Your Mind gala to benefit Pilot Light Chefs\, which assists children in making healthier choices by connecting lessons they learn in classrooms to the foods they eat on their lunch trays\, at home and in their communities. \nINFO & TICKETS
URL:https://monteverdechicago.com/mv-event/feed-your-mind-gala/
LOCATION:REVEL FULTON MARKET\, 1215 W Fulton Market\, Chicago\, Illinois\, 60607
END:VEVENT
END:VCALENDAR