BEGIN:VCALENDAR
VERSION:2.0
PRODID:-// - ECPv5.16.3.1//NONSGML v1.0//EN
CALSCALE:GREGORIAN
METHOD:PUBLISH
X-ORIGINAL-URL:https://monteverdechicago.com
X-WR-CALDESC:Events for 
BEGIN:VTIMEZONE
TZID:America/Chicago
BEGIN:DAYLIGHT
TZOFFSETFROM:-0600
TZOFFSETTO:-0500
TZNAME:CDT
DTSTART:20170312T080000
END:DAYLIGHT
BEGIN:STANDARD
TZOFFSETFROM:-0500
TZOFFSETTO:-0600
TZNAME:CST
DTSTART:20171105T070000
END:STANDARD
END:VTIMEZONE
BEGIN:VEVENT
DTSTART;VALUE=DATE:20170913
DTEND;VALUE=DATE:20170915
DTSTAMP:20260421T154430
CREATED:20170814T220127Z
LAST-MODIFIED:20170814T221119Z
UID:469-1505329200-1505415599@monteverdechicago.com
SUMMARY:Festa Italiana: A Friends of the James Beard Foundation Benefit Dinner
DESCRIPTION:Chef Sarah is heading to Chapel Hill to join Il Palio’s host chef Teddy Diggs and seven other acclaimed chefs for a dinner celebrating Italian food while benefiting the James Beard Foundation.  \nMORE INFO
URL:https://monteverdechicago.com/mv-event/festa-italiana-friends-james-beard-foundation-benefit-dinner/
LOCATION:Palio At the Siena Hotel\, 1505 E Franklin St\, Chapel Hill\, NC\, 27514
END:VEVENT
END:VCALENDAR