BEGIN:VCALENDAR
VERSION:2.0
PRODID:-// - ECPv5.16.3.1//NONSGML v1.0//EN
CALSCALE:GREGORIAN
METHOD:PUBLISH
X-ORIGINAL-URL:https://monteverdechicago.com
X-WR-CALDESC:Events for 
BEGIN:VTIMEZONE
TZID:America/Chicago
BEGIN:DAYLIGHT
TZOFFSETFROM:-0600
TZOFFSETTO:-0500
TZNAME:CDT
DTSTART:20170312T080000
END:DAYLIGHT
BEGIN:STANDARD
TZOFFSETFROM:-0500
TZOFFSETTO:-0600
TZNAME:CST
DTSTART:20171105T070000
END:STANDARD
END:VTIMEZONE
BEGIN:VEVENT
DTSTART;VALUE=DATE:20170927
DTEND;VALUE=DATE:20170929
DTSTAMP:20260421T142317
CREATED:20170814T221517Z
LAST-MODIFIED:20170814T221517Z
UID:478-1506538800-1506625199@monteverdechicago.com
SUMMARY:Fulton Market Harvest Fest
DESCRIPTION:Join Chef Sarah to kick off Fulton Market Harvest Fest with a one-night only\, family-style dinner where she will cook alongside special guests\, her fellow “Iron Chef Gauntlet” competitors Chefs Jason Dady and Shota Nakajima. While reminiscing about almost being an “Iron Chef\,” the trio will create a four-course menu filled with a bounty of fall’s best ingredients paired with wine. The evening will commence with a cocktail reception\, including bubbles from Moet & Chandon. Proceeds from the evening will benefit the Chicago Food Depository. \nMORE INFO
URL:https://monteverdechicago.com/mv-event/fulton-market-harvest-fest/
LOCATION:Monteverde Restaurant & Pastificio\, 1020 W Madison\, Chicago\, IL\, 60607\, United States
END:VEVENT
END:VCALENDAR