BEGIN:VCALENDAR
VERSION:2.0
PRODID:-// - ECPv5.16.3.1//NONSGML v1.0//EN
CALSCALE:GREGORIAN
METHOD:PUBLISH
X-ORIGINAL-URL:https://monteverdechicago.com
X-WR-CALDESC:Events for 
BEGIN:VTIMEZONE
TZID:America/Chicago
BEGIN:DAYLIGHT
TZOFFSETFROM:-0600
TZOFFSETTO:-0500
TZNAME:CDT
DTSTART:20170312T080000
END:DAYLIGHT
BEGIN:STANDARD
TZOFFSETFROM:-0500
TZOFFSETTO:-0600
TZNAME:CST
DTSTART:20171105T070000
END:STANDARD
END:VTIMEZONE
BEGIN:VEVENT
DTSTART;VALUE=DATE:20170824
DTEND;VALUE=DATE:20170828
DTSTAMP:20260421T154214
CREATED:20170814T215215Z
LAST-MODIFIED:20170814T215215Z
UID:464-1503601200-1503860399@monteverdechicago.com
SUMMARY:Los Angeles Food & Wine
DESCRIPTION:Chef Sarah is participating for the first time in Los Angeles Food & Wine. She’ll be cooking a “Power Lunch” on Friday\, August 25 at Craft and then offering tastings during the Lexus Grand Tasting  \nMORE INFO
URL:https://monteverdechicago.com/mv-event/los-angeles-food-wine/
LOCATION:Los Angeles\, CA
END:VEVENT
END:VCALENDAR