BEGIN:VCALENDAR
VERSION:2.0
PRODID:-// - ECPv5.16.3.1//NONSGML v1.0//EN
CALSCALE:GREGORIAN
METHOD:PUBLISH
X-ORIGINAL-URL:https://monteverdechicago.com
X-WR-CALDESC:Events for 
BEGIN:VTIMEZONE
TZID:America/Chicago
BEGIN:DAYLIGHT
TZOFFSETFROM:-0600
TZOFFSETTO:-0500
TZNAME:CDT
DTSTART:20190310T080000
END:DAYLIGHT
BEGIN:STANDARD
TZOFFSETFROM:-0500
TZOFFSETTO:-0600
TZNAME:CST
DTSTART:20191103T070000
END:STANDARD
END:VTIMEZONE
BEGIN:VEVENT
DTSTART;VALUE=DATE:20190919
DTEND;VALUE=DATE:20190923
DTSTAMP:20260421T113614
CREATED:20190627T023643Z
LAST-MODIFIED:20190627T024139Z
UID:697-1568919600-1569178799@monteverdechicago.com
SUMMARY:Music City Eats
DESCRIPTION:Another trip to Tennessee! Chef Sarah is back in Nashville for Music City Eats a food festival that combines her love for music and food all in one weekend. You can catch Chef Sarah at her Saturday cooking demo or during the walk-around Harvest Night on Saturday evening. \nMORE INFO & TICKETS
URL:https://monteverdechicago.com/mv-event/music-city-eats/
LOCATION:Bicentennial Capitol Mall State Park\, Nashville\, TN\, United States
END:VEVENT
END:VCALENDAR