BEGIN:VCALENDAR
VERSION:2.0
PRODID:-// - ECPv5.16.3.1//NONSGML v1.0//EN
CALSCALE:GREGORIAN
METHOD:PUBLISH
X-ORIGINAL-URL:https://monteverdechicago.com
X-WR-CALDESC:Events for 
BEGIN:VTIMEZONE
TZID:America/Chicago
BEGIN:DAYLIGHT
TZOFFSETFROM:-0600
TZOFFSETTO:-0500
TZNAME:CDT
DTSTART:20210314T080000
END:DAYLIGHT
BEGIN:STANDARD
TZOFFSETFROM:-0500
TZOFFSETTO:-0600
TZNAME:CST
DTSTART:20211107T070000
END:STANDARD
END:VTIMEZONE
BEGIN:VEVENT
DTSTART;TZID=America/Chicago:20210325T163000
DTEND;TZID=America/Chicago:20210325T190000
DTSTAMP:20260421T075408
CREATED:20210303T165556Z
LAST-MODIFIED:20210303T165626Z
UID:1108-1616689800-1616698800@monteverdechicago.com
SUMMARY:MV Suburban Drop off in Glen Ellyn\, IL
DESCRIPTION:Monteverde will be in Glen Ellyn\, IL on Thursday\, March 25th!\n  \n\n\nClick here to see the menu options and pricing: MENU\n\nPlease note that orders need to be placed by 6pm on Tuesday\, March 23rd!\n\nYour order will be available for PICK UP starting at 4:45pm at Noon Whistle (Lombard).\n\nAll pricing includes a service fee\, no additional tipping is necessary!\n\n\n\n\n\nMORE INFO
URL:https://monteverdechicago.com/mv-event/mv-glen-ellyn-il-2/
END:VEVENT
END:VCALENDAR