BEGIN:VCALENDAR
VERSION:2.0
PRODID:-// - ECPv5.16.3.1//NONSGML v1.0//EN
CALSCALE:GREGORIAN
METHOD:PUBLISH
X-ORIGINAL-URL:https://monteverdechicago.com
X-WR-CALDESC:Events for 
BEGIN:VTIMEZONE
TZID:America/Chicago
BEGIN:DAYLIGHT
TZOFFSETFROM:-0600
TZOFFSETTO:-0500
TZNAME:CDT
DTSTART:20210314T080000
END:DAYLIGHT
BEGIN:STANDARD
TZOFFSETFROM:-0500
TZOFFSETTO:-0600
TZNAME:CST
DTSTART:20211107T070000
END:STANDARD
END:VTIMEZONE
BEGIN:VEVENT
DTSTART;TZID=America/Chicago:20210313T163000
DTEND;TZID=America/Chicago:20210313T190000
DTSTAMP:20260421T074755
CREATED:20210303T164707Z
LAST-MODIFIED:20210303T164707Z
UID:1101-1615653000-1615662000@monteverdechicago.com
SUMMARY:MV Suburban Drop off in Lake Zurich\, IL
DESCRIPTION:Monteverde will be in Libertyville\, IL on Saturday\, March 13th!\n  \n\n\nClick here to see the menu options and pricing: MENU\n\nPlease note that orders need to be placed by 6pm on Thursday\, March 11th!\n\nYour order will be available for PICK UP starting at 4:45pm at Paulus Park.\n\nAll pricing includes a service fee\, no additional tipping is necessary!\n\n\n\n\n\nMORE INFO
URL:https://monteverdechicago.com/mv-event/mv-lake-zurich-il/
END:VEVENT
END:VCALENDAR