BEGIN:VCALENDAR
VERSION:2.0
PRODID:-// - ECPv5.16.3.1//NONSGML v1.0//EN
CALSCALE:GREGORIAN
METHOD:PUBLISH
X-ORIGINAL-URL:https://monteverdechicago.com
X-WR-CALDESC:Events for 
BEGIN:VTIMEZONE
TZID:America/Chicago
BEGIN:DAYLIGHT
TZOFFSETFROM:-0600
TZOFFSETTO:-0500
TZNAME:CDT
DTSTART:20210314T080000
END:DAYLIGHT
BEGIN:STANDARD
TZOFFSETFROM:-0500
TZOFFSETTO:-0600
TZNAME:CST
DTSTART:20211107T070000
END:STANDARD
END:VTIMEZONE
BEGIN:VEVENT
DTSTART;TZID=America/Chicago:20210225T163000
DTEND;TZID=America/Chicago:20210225T190000
DTSTAMP:20260421T085855
CREATED:20210129T210829Z
LAST-MODIFIED:20210223T151203Z
UID:1074-1614270600-1614279600@monteverdechicago.com
SUMMARY:MV Suburban Drop Off Schaumburg\, IL
DESCRIPTION:Monteverde will be in Schaumburg\, IL on Thursday\, February 25th at 4:30pm!\n  \n\nClick here to see the menu options and pricing: MENU\n\nPlease note that orders need to be placed by 6pm on Tuesday\, February 23rd!\n\nYour order will be available for PICK UP starting at 4:45pm at Veteran’s Park.\n\nAll pricing includes a service fee\, no additional tipping is necessary!\n\n\n\nMORE INFO
URL:https://monteverdechicago.com/mv-event/mv-schaumburg-il/
END:VEVENT
END:VCALENDAR