BEGIN:VCALENDAR
VERSION:2.0
PRODID:-// - ECPv5.16.3.1//NONSGML v1.0//EN
CALSCALE:GREGORIAN
METHOD:PUBLISH
X-ORIGINAL-URL:https://monteverdechicago.com
X-WR-CALDESC:Events for 
BEGIN:VTIMEZONE
TZID:America/Chicago
BEGIN:DAYLIGHT
TZOFFSETFROM:-0600
TZOFFSETTO:-0500
TZNAME:CDT
DTSTART:20180311T080000
END:DAYLIGHT
BEGIN:STANDARD
TZOFFSETFROM:-0500
TZOFFSETTO:-0600
TZNAME:CST
DTSTART:20181104T070000
END:STANDARD
END:VTIMEZONE
BEGIN:VEVENT
DTSTART;VALUE=DATE:20181212
DTEND;VALUE=DATE:20181217
DTSTAMP:20260421T130755
CREATED:20180911T210412Z
LAST-MODIFIED:20181110T023256Z
UID:632-1544637600-1544983199@monteverdechicago.com
SUMMARY:Palm Beach Food & Wine Festival
DESCRIPTION:Chef Sarah joins in some pre-winter break fun at the Palm Bead Food & Wine Festival with nationally acclaimed chefs for dinners\, demos and more! She’ll be cooking an Italian feast with Chefs Tony Mantuano\, Michael Pirolo and Fabrizio Giorgi on Thursday\, December 13th and then serving up bites at INDULGE on Saturday\, December 15th.  \nINFO & TICKETS
URL:https://monteverdechicago.com/mv-event/palm-beach-food-and-wine-festival/
END:VEVENT
END:VCALENDAR