BEGIN:VCALENDAR
VERSION:2.0
PRODID:-// - ECPv5.16.3.1//NONSGML v1.0//EN
CALSCALE:GREGORIAN
METHOD:PUBLISH
X-ORIGINAL-URL:https://monteverdechicago.com
X-WR-CALDESC:Events for 
BEGIN:VTIMEZONE
TZID:America/Chicago
BEGIN:DAYLIGHT
TZOFFSETFROM:-0600
TZOFFSETTO:-0500
TZNAME:CDT
DTSTART:20180311T080000
END:DAYLIGHT
BEGIN:STANDARD
TZOFFSETFROM:-0500
TZOFFSETTO:-0600
TZNAME:CST
DTSTART:20181104T070000
END:STANDARD
END:VTIMEZONE
BEGIN:VEVENT
DTSTART;VALUE=DATE:20180221
DTEND;VALUE=DATE:20180226
DTSTAMP:20260421T143304
CREATED:20171118T020723Z
LAST-MODIFIED:20171118T020723Z
UID:498-1519236000-1519581599@monteverdechicago.com
SUMMARY:South Beach Wine & Food Festival
DESCRIPTION:Chef Sarah will be making her South Beach Wine & Food Festival Debut with two events. See her on Thursday night at the Barilla’s Italian Bites on the Beach and/or Friday night at Wine Spectator’s Best of the Best.  \nMORE INFO
URL:https://monteverdechicago.com/mv-event/south-beach-wine-food-festival/
LOCATION:South Beach\, Miami\, FL\, 33139
END:VEVENT
END:VCALENDAR