BEGIN:VCALENDAR
VERSION:2.0
PRODID:-// - ECPv5.16.3.1//NONSGML v1.0//EN
CALSCALE:GREGORIAN
METHOD:PUBLISH
X-ORIGINAL-URL:https://monteverdechicago.com
X-WR-CALDESC:Events for 
BEGIN:VTIMEZONE
TZID:America/Chicago
BEGIN:DAYLIGHT
TZOFFSETFROM:-0600
TZOFFSETTO:-0500
TZNAME:CDT
DTSTART:20170312T080000
END:DAYLIGHT
BEGIN:STANDARD
TZOFFSETFROM:-0500
TZOFFSETTO:-0600
TZNAME:CST
DTSTART:20171105T070000
END:STANDARD
END:VTIMEZONE
BEGIN:VEVENT
DTSTART;VALUE=DATE:20171015
DTEND;VALUE=DATE:20171017
DTSTAMP:20260423T050115
CREATED:20170814T221702Z
LAST-MODIFIED:20170814T221702Z
UID:480-1508094000-1508180399@monteverdechicago.com
SUMMARY:Third Annual Cooking for a Cure
DESCRIPTION:Case Western Reserve University School of Medicine and The Young Scientist Foundation are pleased to present Cooking for a Cure\, an exclusive and interactive chef-to-table food and wine experience featuring gourmet dishes and wine pairings from nationally and internationally renowned chefs. Proceeds will directly support the young scientists of tomorrow\, by placing underserved Cleveland-area high school students in Case Western Reserve University School of Medicine laboratories where they will have the opportunity to work alongside world-class researchers.  \nMORE INFO
URL:https://monteverdechicago.com/mv-event/third-annual-cooking-cure/
LOCATION:The Ritz Carlton Cleveland\, 1515 W 3rd St\, Cleveland\, OH\, 44113
END:VEVENT
END:VCALENDAR